BEGIN:VCALENDAR
VERSION:2.0
PRODID:DPCALENDAR
CALSCALE:GREGORIAN
BEGIN:VTIMEZONE
TZID:Europe/Berlin
X-MICROSOFT-CDO-TZID:4
BEGIN:STANDARD
DTSTART:20251026T010000
TZOFFSETFROM:+0200
TZOFFSETTO:+0100
TZNAME:CET
END:STANDARD
BEGIN:STANDARD
DTSTART:20261025T010000
TZOFFSETFROM:+0200
TZOFFSETTO:+0100
TZNAME:CET
END:STANDARD
BEGIN:DAYLIGHT
DTSTART:20260329T010000
TZOFFSETFROM:+0100
TZOFFSETTO:+0200
TZNAME:CEST
END:DAYLIGHT
END:VTIMEZONE
X-WR-TIMEZONE:Europe/Berlin
BEGIN:VEVENT
DTSTART;TZID=Europe/Berlin:20200118T150000
DTEND;TZID=Europe/Berlin:20200118T160000
UID:C4C32532-6E88-4CFE-8F98-39E66338031F
SUMMARY:Treffen Kinderfeuerwehr
CREATED:20200108T081326Z
DTSTAMP:20200108T081326Z
URL:https://feuerwehr-moischt.de/aktuelles/terminkalender/treffen-kinderfeuerwehr
LAST-MODIFIED:20200827T080258Z
SEQUENCE:20044172
X-ACCESS:1
X-HITS:321
X-COLOR:E59D2B
X-SHOW-END-TIME:0
END:VEVENT
BEGIN:VEVENT
DTSTART;TZID=Europe/Berlin:20200201T150000
DTEND;TZID=Europe/Berlin:20200201T160000
UID:417CD235-CACF-443B-B366-7E26BF114B45
SUMMARY:Treffen Kinderfeuerwehr
CREATED:20200108T081653Z
DTSTAMP:20200108T081653Z
URL:https://feuerwehr-moischt.de/aktuelles/terminkalender/treffen-kinderfeuerwehr-2
LAST-MODIFIED:20200827T080313Z
SEQUENCE:20043980
X-ACCESS:1
X-HITS:242
X-COLOR:E59D2B
X-SHOW-END-TIME:0
END:VEVENT
BEGIN:VEVENT
DTSTART;TZID=Europe/Berlin:20200215T150000
DTEND;TZID=Europe/Berlin:20200215T160000
UID:E622FEDF-DF67-44F5-9166-00590FBAD94B
SUMMARY:Treffen Kinderfeuerwehr
CREATED:20200108T081859Z
DTSTAMP:20200108T081859Z
URL:https://feuerwehr-moischt.de/aktuelles/terminkalender/treffen-kinderfeuerwehr-3
LAST-MODIFIED:20200827T080334Z
SEQUENCE:20043875
X-ACCESS:1
X-HITS:314
X-COLOR:E59D2B
X-SHOW-END-TIME:0
END:VEVENT
BEGIN:VEVENT
DTSTART;TZID=Europe/Berlin:20200229T150000
DTEND;TZID=Europe/Berlin:20200229T160000
UID:5957DE27-CFE6-4813-9DFE-AA1F0A645425
SUMMARY:Treffen Kinderfeuerwehr
CREATED:20200108T082024Z
DTSTAMP:20200108T082024Z
URL:https://feuerwehr-moischt.de/aktuelles/terminkalender/treffen-kinderfeuerwehr-4
LAST-MODIFIED:20200827T080401Z
SEQUENCE:20043817
X-ACCESS:1
X-HITS:287
X-COLOR:E59D2B
X-SHOW-END-TIME:0
END:VEVENT
BEGIN:VEVENT
DTSTART;TZID=Europe/Berlin:20200316T170000
DTEND;TZID=Europe/Berlin:20200316T180000
UID:3E8B6214-5F06-494A-8B9C-74744993676B
SUMMARY:Treffen Kinderfeuerwehr
CREATED:20200108T082316Z
DTSTAMP:20200108T082316Z
URL:https://feuerwehr-moischt.de/aktuelles/terminkalender/treffen-kinderfeuerwehr-5
LAST-MODIFIED:20200827T080417Z
SEQUENCE:20043661
X-ACCESS:1
X-HITS:543
X-COLOR:E59D2B
X-SHOW-END-TIME:0
END:VEVENT
BEGIN:VEVENT
DTSTART;TZID=Europe/Berlin:20200425T150000
DTEND;TZID=Europe/Berlin:20200425T160000
UID:60428B9A-5563-456C-B9EB-1680DD3110AB
SUMMARY:Treffen Kinderfeuerwehr
CREATED:20200108T082813Z
DTSTAMP:20200108T082813Z
URL:https://feuerwehr-moischt.de/aktuelles/terminkalender/treffen-kinderfeuerwehr-6
LAST-MODIFIED:20200827T080434Z
SEQUENCE:20043381
X-ACCESS:1
X-HITS:433
X-COLOR:E59D2B
X-SHOW-END-TIME:0
END:VEVENT
BEGIN:VEVENT
DTSTART;TZID=Europe/Berlin:20200509T150000
DTEND;TZID=Europe/Berlin:20200509T160000
UID:D0D9429D-85A6-4167-BFCB-0F6E4F491BC7
SUMMARY:Treffen Kinderfeuerwehr
CREATED:20200108T082952Z
DTSTAMP:20200108T082952Z
URL:https://feuerwehr-moischt.de/aktuelles/terminkalender/treffen-kinderfeuerwehr-7
LAST-MODIFIED:20200827T080448Z
SEQUENCE:20043296
X-ACCESS:1
X-HITS:482
X-COLOR:E59D2B
X-SHOW-END-TIME:0
END:VEVENT
BEGIN:VEVENT
DTSTART;TZID=Europe/Berlin:20200523T150000
DTEND;TZID=Europe/Berlin:20200523T160000
UID:F9CB6A9D-9C97-4047-8839-94A1694EBDC1
SUMMARY:Treffen Kinderfeuerwehr
CREATED:20200108T083112Z
DTSTAMP:20200108T083112Z
URL:https://feuerwehr-moischt.de/aktuelles/terminkalender/treffen-kinderfeuerwehr-8
LAST-MODIFIED:20200827T080501Z
SEQUENCE:20043229
X-ACCESS:1
X-HITS:271
X-COLOR:E59D2B
X-SHOW-END-TIME:0
END:VEVENT
BEGIN:VEVENT
DTSTART;TZID=Europe/Berlin:20200606T150000
DTEND;TZID=Europe/Berlin:20200606T160000
UID:5A813EC1-78D2-4E53-A6E9-BB84CE9FEF1D
SUMMARY:Treffen Kinderfeuerwehr
CREATED:20200108T083232Z
DTSTAMP:20200108T083232Z
URL:https://feuerwehr-moischt.de/aktuelles/terminkalender/treffen-kinderfeuerwehr-9
LAST-MODIFIED:20200827T080516Z
SEQUENCE:20043164
X-ACCESS:1
X-HITS:68
X-COLOR:E59D2B
X-SHOW-END-TIME:0
END:VEVENT
BEGIN:VEVENT
DTSTART;TZID=Europe/Berlin:20200704T150000
DTEND;TZID=Europe/Berlin:20200704T160000
UID:950DAE27-DCC2-4AC0-8952-5812F4081FDD
SUMMARY:Treffen Kinderfeuerwehr
CREATED:20200108T083941Z
DTSTAMP:20200108T083941Z
URL:https://feuerwehr-moischt.de/aktuelles/terminkalender/treffen-kinderfeuerwehr-10
LAST-MODIFIED:20200827T080530Z
SEQUENCE:20042749
X-ACCESS:1
X-HITS:77
X-COLOR:E59D2B
X-SHOW-END-TIME:0
END:VEVENT
BEGIN:VEVENT
DTSTART;TZID=Europe/Berlin:20200905T150000
DTEND;TZID=Europe/Berlin:20200905T160000
UID:53B6E018-2A5B-426A-A9FE-5755938B1923
SUMMARY:Treffen Kinderfeuerwehr
CREATED:20200825T084440Z
DTSTAMP:20200825T084440Z
URL:https://feuerwehr-moischt.de/aktuelles/terminkalender/treffen-kinderfeuerwehr-11
LAST-MODIFIED:20200827T080543Z
SEQUENCE:170463
X-ACCESS:1
X-HITS:95
X-COLOR:E59D2B
X-SHOW-END-TIME:0
END:VEVENT
BEGIN:VEVENT
DTSTART;TZID=Europe/Berlin:20200919T150000
DTEND;TZID=Europe/Berlin:20200919T160000
UID:EDCCAE9D-BB19-4EBF-92EF-0E08675C2DE7
SUMMARY:Treffen Kinderfeuerwehr
CREATED:20200825T084501Z
DTSTAMP:20200825T084501Z
URL:https://feuerwehr-moischt.de/aktuelles/terminkalender/treffen-kinderfeuerwehr-12
LAST-MODIFIED:20200827T080556Z
SEQUENCE:170455
X-ACCESS:1
X-HITS:181
X-COLOR:E59D2B
X-SHOW-END-TIME:0
END:VEVENT
BEGIN:VEVENT
DTSTART;TZID=Europe/Berlin:20201031T150000
DTEND;TZID=Europe/Berlin:20201031T160000
UID:3E3320FA-9C4C-4993-B805-9385FFA59005
SUMMARY:Treffen Kinderfeuerwehr
CREATED:20200825T084523Z
DTSTAMP:20200825T084523Z
URL:https://feuerwehr-moischt.de/aktuelles/terminkalender/treffen-kinderfeuerwehr-13
LAST-MODIFIED:20200827T080610Z
SEQUENCE:170447
X-ACCESS:1
X-HITS:158
X-COLOR:E59D2B
X-SHOW-END-TIME:0
END:VEVENT
BEGIN:VEVENT
DTSTART;TZID=Europe/Berlin:20201114T150000
DTEND;TZID=Europe/Berlin:20201114T160000
UID:5BCEAAC1-C014-45FA-BEEC-07ABF3C1199F
SUMMARY:Treffen Kinderfeuerwehr 
CREATED:20200825T084601Z
DTSTAMP:20200825T084601Z
URL:https://feuerwehr-moischt.de/aktuelles/terminkalender/treffen-kinderfeuerwehr-14
LAST-MODIFIED:20200827T080623Z
SEQUENCE:170422
X-ACCESS:1
X-HITS:137
X-COLOR:E59D2B
X-SHOW-END-TIME:0
END:VEVENT
BEGIN:VEVENT
DTSTART;TZID=Europe/Berlin:20201128T150000
DTEND;TZID=Europe/Berlin:20201128T160000
UID:6AE62BFF-46E0-47D5-8E14-B67691119354
SUMMARY:Treffen Kinderfeuerwehr
CREATED:20200825T084620Z
DTSTAMP:20200825T084620Z
URL:https://feuerwehr-moischt.de/aktuelles/terminkalender/treffen-kinderfeuerwehr-15
LAST-MODIFIED:20200827T080636Z
SEQUENCE:170416
X-ACCESS:1
X-HITS:140
X-COLOR:E59D2B
X-SHOW-END-TIME:0
END:VEVENT
BEGIN:VEVENT
DTSTART;TZID=Europe/Berlin:20201212T150000
DTEND;TZID=Europe/Berlin:20201212T160000
UID:4098043D-C4E2-4650-94A3-EBC7202C7F46
SUMMARY:Treffen Kinderfeuerwehr
CREATED:20200825T084638Z
DTSTAMP:20200825T084638Z
URL:https://feuerwehr-moischt.de/aktuelles/terminkalender/treffen-kinderfeuerwehr-16
LAST-MODIFIED:20200827T080654Z
SEQUENCE:170416
X-ACCESS:1
X-HITS:202
X-COLOR:E59D2B
X-SHOW-END-TIME:0
END:VEVENT
BEGIN:VEVENT
DTSTART;TZID=Europe/Berlin:20220720T110000
DTEND;TZID=Europe/Berlin:20220720T120000
UID:C7B59933-7480-43C7-961A-00FE18715588
SUMMARY:Kreiskinderfeuerwehrtag in Cappel
CREATED:20220720T081603Z
DTSTAMP:20220720T081603Z
URL:https://feuerwehr-moischt.de/aktuelles/terminkalender/kreiskinderfeuerwehrtag-in-cappel
X-ACCESS:1
X-HITS:13
X-COLOR:E59D2B
X-SHOW-END-TIME:0
END:VEVENT
BEGIN:VEVENT
DTSTART;TZID=Europe/Berlin:20220910T150000
DTEND;TZID=Europe/Berlin:20220910T160000
UID:4FE693B4-4488-4CA7-A125-1CD4A232A2EC
SUMMARY:Treffen der Kinderfeuerwehr
CREATED:20220720T081625Z
DTSTAMP:20220720T081625Z
URL:https://feuerwehr-moischt.de/aktuelles/terminkalender/treffen-der-kinderfeuerwehr
X-ACCESS:1
X-HITS:264
X-COLOR:E59D2B
X-SHOW-END-TIME:0
END:VEVENT
BEGIN:VEVENT
DTSTART;TZID=Europe/Berlin:20220924T150000
DTEND;TZID=Europe/Berlin:20220924T160000
UID:9F38833E-6779-43B3-AC80-E1AAAE60BFA7
SUMMARY:Treffen der Kinderfeuerwehr
CREATED:20220720T081650Z
DTSTAMP:20220720T081650Z
URL:https://feuerwehr-moischt.de/aktuelles/terminkalender/treffen-der-kinderfeuerwehr-2
X-ACCESS:1
X-HITS:80
X-COLOR:E59D2B
X-SHOW-END-TIME:0
END:VEVENT
BEGIN:VEVENT
DTSTART;TZID=Europe/Berlin:20221008T150000
DTEND;TZID=Europe/Berlin:20221008T160000
UID:B3C39D0C-1CC9-49E4-AD1F-6A8C6D3D5EF0
SUMMARY:Treffen der Kinderfeuerwehr
CREATED:20220720T081704Z
DTSTAMP:20220720T081704Z
URL:https://feuerwehr-moischt.de/aktuelles/terminkalender/treffen-der-kinderfeuerwehr-3
X-ACCESS:1
X-HITS:192
X-COLOR:E59D2B
X-SHOW-END-TIME:0
END:VEVENT
BEGIN:VEVENT
DTSTART;TZID=Europe/Berlin:20221022T150000
DTEND;TZID=Europe/Berlin:20221022T160000
UID:596E447B-091E-4DE0-8802-1BD358300380
SUMMARY:Treffen der Kinderfeuerwehr
CREATED:20220720T081723Z
DTSTAMP:20220720T081723Z
URL:https://feuerwehr-moischt.de/aktuelles/terminkalender/treffen-der-kinderfeuerwehr-4
X-ACCESS:1
X-HITS:101
X-COLOR:E59D2B
X-SHOW-END-TIME:0
END:VEVENT
BEGIN:VEVENT
DTSTART;TZID=Europe/Berlin:20221105T150000
DTEND;TZID=Europe/Berlin:20221105T160000
UID:A9F97CF9-5825-4B80-9DF5-4FAFB8BD8016
SUMMARY:Treffen der Kinderfeuerwehr
CREATED:20220720T081740Z
DTSTAMP:20220720T081740Z
URL:https://feuerwehr-moischt.de/aktuelles/terminkalender/treffen-der-kinderfeuerwehr-5
X-ACCESS:1
X-HITS:68
X-COLOR:E59D2B
X-SHOW-END-TIME:0
END:VEVENT
BEGIN:VEVENT
DTSTART;TZID=Europe/Berlin:20221119T150000
DTEND;TZID=Europe/Berlin:20221119T160000
UID:9BF12F4F-590F-4FD8-9423-95165BFF48A7
SUMMARY:Treffen der Kinderfeuerwehr
CREATED:20220720T081759Z
DTSTAMP:20220720T081759Z
URL:https://feuerwehr-moischt.de/aktuelles/terminkalender/treffen-der-kinderfeuerwehr-6
X-ACCESS:1
X-HITS:100
X-COLOR:E59D2B
X-SHOW-END-TIME:0
END:VEVENT
BEGIN:VEVENT
DTSTART;TZID=Europe/Berlin:20221203T150000
DTEND;TZID=Europe/Berlin:20221203T160000
UID:75E3D768-4D79-4DDA-B3DF-07F2FB65A8D1
SUMMARY:Treffen der Kinderfeuerwehr
CREATED:20220720T081815Z
DTSTAMP:20220720T081815Z
URL:https://feuerwehr-moischt.de/aktuelles/terminkalender/treffen-der-kinderfeuerwehr-7
X-ACCESS:1
X-HITS:149
X-COLOR:E59D2B
X-SHOW-END-TIME:0
END:VEVENT
BEGIN:VEVENT
DTSTART;TZID=Europe/Berlin:20221217T150000
DTEND;TZID=Europe/Berlin:20221217T160000
UID:2A8A9D46-E87A-4F68-8A9C-6CD45962D175
SUMMARY:Treffen der Kinderfeuerwehr
CREATED:20220720T081831Z
DTSTAMP:20220720T081831Z
URL:https://feuerwehr-moischt.de/aktuelles/terminkalender/treffen-der-kinderfeuerwehr-8
X-ACCESS:1
X-HITS:179
X-COLOR:E59D2B
X-SHOW-END-TIME:0
END:VEVENT
BEGIN:VEVENT
DTSTART;TZID=Europe/Berlin:20230128T150000
DTEND;TZID=Europe/Berlin:20230128T160000
UID:1BCE50AE-1288-428D-8F76-C9C9E8352747
SUMMARY:Treffen der Kinderfeuerwehr
CREATED:20230118T132032Z
DTSTAMP:20230118T132032Z
URL:https://feuerwehr-moischt.de/aktuelles/terminkalender/treffen-der-kinderfeuerwehr-9
X-ACCESS:1
X-HITS:198
X-COLOR:E59D2B
X-SHOW-END-TIME:0
END:VEVENT
BEGIN:VEVENT
DTSTART;TZID=Europe/Berlin:20230211T150000
DTEND;TZID=Europe/Berlin:20230211T160000
UID:0937B684-CF8E-46FC-A932-51AC8B7EB8EE
SUMMARY:Treffen der Kinderfeuerwehr
CREATED:20230118T132049Z
DTSTAMP:20230118T132049Z
URL:https://feuerwehr-moischt.de/aktuelles/terminkalender/treffen-der-kinderfeuerwehr-10
X-ACCESS:1
X-HITS:96
X-COLOR:E59D2B
X-SHOW-END-TIME:0
END:VEVENT
BEGIN:VEVENT
DTSTART;TZID=Europe/Berlin:20230225T150000
DTEND;TZID=Europe/Berlin:20230225T160000
UID:DF999E16-C138-4A77-A10B-8DB3484E5E1E
SUMMARY:Treffen der Kinderfeuerwehr
CREATED:20230118T132114Z
DTSTAMP:20230118T132114Z
URL:https://feuerwehr-moischt.de/aktuelles/terminkalender/treffen-der-kinderfeuerwehr-11
X-ACCESS:1
X-HITS:131
X-COLOR:E59D2B
X-SHOW-END-TIME:0
END:VEVENT
BEGIN:VEVENT
DTSTART;TZID=Europe/Berlin:20230311T150000
DTEND;TZID=Europe/Berlin:20230311T160000
UID:645715E7-AF4B-446D-8362-73E4236EE70B
SUMMARY:Treffen der Kinderfeuerwehr
CREATED:20230118T132143Z
DTSTAMP:20230118T132143Z
URL:https://feuerwehr-moischt.de/aktuelles/terminkalender/treffen-der-kinderfeuerwehr-12
X-ACCESS:1
X-HITS:161
X-COLOR:E59D2B
X-SHOW-END-TIME:0
END:VEVENT
BEGIN:VEVENT
DTSTART;TZID=Europe/Berlin:20230325T150000
DTEND;TZID=Europe/Berlin:20230325T160000
UID:E38AB8DC-B811-401B-9BE4-ECE0C08F7974
SUMMARY:Treffen der Kinderfeuerwehr
CREATED:20230118T132200Z
DTSTAMP:20230118T132200Z
URL:https://feuerwehr-moischt.de/aktuelles/terminkalender/treffen-der-kinderfeuerwehr-13
X-ACCESS:1
X-HITS:79
X-COLOR:E59D2B
X-SHOW-END-TIME:0
END:VEVENT
BEGIN:VEVENT
DTSTART;TZID=Europe/Berlin:20230422T150000
DTEND;TZID=Europe/Berlin:20230422T160000
UID:17929BD4-B00E-417A-AC3C-59E85DD812D1
SUMMARY:Treffen der Kinderfeuerwehr
CREATED:20230118T132226Z
DTSTAMP:20230118T132226Z
URL:https://feuerwehr-moischt.de/aktuelles/terminkalender/treffen-der-kinderfeuerwehr-14
X-ACCESS:1
X-HITS:167
X-COLOR:E59D2B
X-SHOW-END-TIME:0
END:VEVENT
BEGIN:VEVENT
DTSTART;TZID=Europe/Berlin:20230506T150000
DTEND;TZID=Europe/Berlin:20230506T160000
UID:89E1226F-74CA-466F-A04E-AB531EABA1B7
SUMMARY:Treffen der Kinderfeuerwehr
CREATED:20230118T132242Z
DTSTAMP:20230118T132242Z
URL:https://feuerwehr-moischt.de/aktuelles/terminkalender/treffen-der-kinderfeuerwehr-15
X-ACCESS:1
X-HITS:158
X-COLOR:E59D2B
X-SHOW-END-TIME:0
END:VEVENT
BEGIN:VEVENT
DTSTART;TZID=Europe/Berlin:20230520T150000
DTEND;TZID=Europe/Berlin:20230520T160000
UID:5B519513-FD15-4DCB-B6B7-57A860370F3F
SUMMARY:Treffen der Kinderfeuerwehr
CREATED:20230118T132259Z
DTSTAMP:20230118T132259Z
URL:https://feuerwehr-moischt.de/aktuelles/terminkalender/treffen-der-kinderfeuerwehr-16
X-ACCESS:1
X-HITS:147
X-COLOR:E59D2B
X-SHOW-END-TIME:0
END:VEVENT
BEGIN:VEVENT
DTSTART;TZID=Europe/Berlin:20230603T150000
DTEND;TZID=Europe/Berlin:20230603T160000
UID:615A54B4-B427-4168-A90A-2A0508993878
SUMMARY:Treffen der Kinderfeuerwehr
CREATED:20230118T132317Z
DTSTAMP:20230118T132317Z
URL:https://feuerwehr-moischt.de/aktuelles/terminkalender/treffen-der-kinderfeuerwehr-17
X-ACCESS:1
X-HITS:201
X-COLOR:E59D2B
X-SHOW-END-TIME:0
END:VEVENT
BEGIN:VEVENT
DTSTART;TZID=Europe/Berlin:20230617T150000
DTEND;TZID=Europe/Berlin:20230617T160000
UID:DEE20E6A-13CE-4DB7-B9F1-FCA48D13DB05
SUMMARY:Treffen der Kinderfeuerwehr
CREATED:20230118T132338Z
DTSTAMP:20230118T132338Z
URL:https://feuerwehr-moischt.de/aktuelles/terminkalender/treffen-der-kinderfeuerwehr-18
X-ACCESS:1
X-HITS:169
X-COLOR:E59D2B
X-SHOW-END-TIME:0
END:VEVENT
BEGIN:VEVENT
DTSTART;TZID=Europe/Berlin:20230715T150000
DTEND;TZID=Europe/Berlin:20230715T160000
UID:5A8C32D1-BA0A-407C-B1CE-3CEA887FD18F
SUMMARY:Treffen der Kinderfeuerwehr
CREATED:20230118T132357Z
DTSTAMP:20230118T132357Z
URL:https://feuerwehr-moischt.de/aktuelles/terminkalender/treffen-der-kinderfeuerwehr-19
X-ACCESS:1
X-HITS:96
X-COLOR:E59D2B
X-SHOW-END-TIME:0
END:VEVENT
BEGIN:VEVENT
DTSTART;TZID=Europe/Berlin:20230909T150000
DTEND;TZID=Europe/Berlin:20230909T160000
UID:FC230AED-E7B5-4F0D-A62D-E9C1B3007AB8
SUMMARY:Ausbildungsdienst Kinderfeuerwehr
CREATED:20230904T041820Z
DTSTAMP:20230904T041820Z
URL:https://feuerwehr-moischt.de/aktuelles/terminkalender/ausbildungsdienst-kinderfeuerwehr
X-ACCESS:1
X-HITS:141
X-COLOR:E59D2B
X-SHOW-END-TIME:0
END:VEVENT
BEGIN:VEVENT
DTSTART;TZID=Europe/Berlin:20230923T150000
DTEND;TZID=Europe/Berlin:20230923T160000
UID:0E0090CD-DE9C-48E2-B31D-21D7E18B4256
SUMMARY:Ausbildungsdienst Kinderfeuerwehr
CREATED:20230904T041838Z
DTSTAMP:20230904T041838Z
URL:https://feuerwehr-moischt.de/aktuelles/terminkalender/ausbildungsdienst-kinderfeuerwehr-2
X-ACCESS:1
X-HITS:211
X-COLOR:E59D2B
X-SHOW-END-TIME:0
END:VEVENT
BEGIN:VEVENT
DTSTART;TZID=Europe/Berlin:20231007T150000
DTEND;TZID=Europe/Berlin:20231007T160000
UID:D9661529-9725-412C-AE44-7CB12EECA7EC
SUMMARY:Ausbildungsdienst Kinderfeuerwehr
CREATED:20230904T041857Z
DTSTAMP:20230904T041857Z
URL:https://feuerwehr-moischt.de/aktuelles/terminkalender/ausbildungsdienst-kinderfeuerwehr-3
X-ACCESS:1
X-HITS:158
X-COLOR:E59D2B
X-SHOW-END-TIME:0
END:VEVENT
BEGIN:VEVENT
DTSTART;TZID=Europe/Berlin:20231021T150000
DTEND;TZID=Europe/Berlin:20231021T160000
UID:2F4598FE-363D-43B3-A346-778E24FEE7E0
SUMMARY:Ausbildungsdienst Kinderfeuerwehr
CREATED:20230904T041915Z
DTSTAMP:20230904T041915Z
URL:https://feuerwehr-moischt.de/aktuelles/terminkalender/ausbildungsdienst-kinderfeuerwehr-4
X-ACCESS:1
X-HITS:147
X-COLOR:E59D2B
X-SHOW-END-TIME:0
END:VEVENT
BEGIN:VEVENT
DTSTART;TZID=Europe/Berlin:20231104T150000
DTEND;TZID=Europe/Berlin:20231104T160000
UID:74FA9F7B-0087-4E6C-BCF5-2B1D46D8B433
SUMMARY:Ausbildungsdienst Kinderfeuerwehr
CREATED:20230904T041947Z
DTSTAMP:20230904T041947Z
URL:https://feuerwehr-moischt.de/aktuelles/terminkalender/ausbildungsdienst-kinderfeuerwehr-5
X-ACCESS:1
X-HITS:183
X-COLOR:E59D2B
X-SHOW-END-TIME:0
END:VEVENT
BEGIN:VEVENT
DTSTART;TZID=Europe/Berlin:20231118T150000
DTEND;TZID=Europe/Berlin:20231118T160000
UID:ACC042F0-7D7D-456F-8B31-B970776E3986
SUMMARY:Ausbildungsdienst Kinderfeuerwehr
CREATED:20230904T042005Z
DTSTAMP:20230904T042005Z
URL:https://feuerwehr-moischt.de/aktuelles/terminkalender/ausbildungsdienst-kinderfeuerwehr-6
X-ACCESS:1
X-HITS:153
X-COLOR:E59D2B
X-SHOW-END-TIME:0
END:VEVENT
BEGIN:VEVENT
DTSTART;TZID=Europe/Berlin:20231202T150000
DTEND;TZID=Europe/Berlin:20231202T160000
UID:11F3133B-C80C-4802-A1D5-ED69FB8338C4
SUMMARY:Ausbildungsdienst Kinderfeuerwehr
CREATED:20230904T042022Z
DTSTAMP:20230904T042022Z
URL:https://feuerwehr-moischt.de/aktuelles/terminkalender/ausbildungsdienst-kinderfeuerwehr-7
X-ACCESS:1
X-HITS:153
X-COLOR:E59D2B
X-SHOW-END-TIME:0
END:VEVENT
BEGIN:VEVENT
DTSTART;TZID=Europe/Berlin:20231216T140000
DTEND;TZID=Europe/Berlin:20231216T150000
UID:9C9C6112-8EC8-4036-AE97-78EB0A5F52DC
SUMMARY:Ausbildungsdienst Kinderfeuerwehr
CREATED:20230904T042045Z
DTSTAMP:20230904T042045Z
URL:https://feuerwehr-moischt.de/aktuelles/terminkalender/ausbildungsdienst-kinderfeuerwehr-8
X-ACCESS:1
X-HITS:88
X-COLOR:E59D2B
X-SHOW-END-TIME:0
END:VEVENT
BEGIN:VEVENT
DTSTART;TZID=Europe/Berlin:20240127T150000
DTEND;TZID=Europe/Berlin:20240127T160000
UID:918A06EB-9B16-44A2-B598-09B64C8BF55C
SUMMARY:Ausbildungsdienst der Kinderfeuerwehr
CREATED:20231228T112139Z
DTSTAMP:20231228T112139Z
URL:https://feuerwehr-moischt.de/aktuelles/terminkalender/ausbildungsdienst-der-kinderfeuerwehr
X-ACCESS:1
X-HITS:211
X-COLOR:E59D2B
X-SHOW-END-TIME:0
END:VEVENT
BEGIN:VEVENT
DTSTART;TZID=Europe/Berlin:20240210T150000
DTEND;TZID=Europe/Berlin:20240210T160000
UID:F7A06C42-4DD4-4263-BDAD-976D422ECE7B
SUMMARY:Ausbildungsdienst der Kinderfeuerwehr
CREATED:20231228T112211Z
DTSTAMP:20231228T112211Z
URL:https://feuerwehr-moischt.de/aktuelles/terminkalender/ausbildungsdienst-der-kinderfeuerwehr-2
X-ACCESS:1
X-HITS:154
X-COLOR:E59D2B
X-SHOW-END-TIME:0
END:VEVENT
BEGIN:VEVENT
DTSTART;TZID=Europe/Berlin:20240224T150000
DTEND;TZID=Europe/Berlin:20240224T160000
UID:6BF0E86E-1ADA-48D9-99F8-745EF6999A9E
SUMMARY:Ausbildungsdienst der Kinderfeuerwehr
CREATED:20231228T112232Z
DTSTAMP:20231228T112232Z
URL:https://feuerwehr-moischt.de/aktuelles/terminkalender/ausbildungsdienst-der-kinderfeuerwehr-3
X-ACCESS:1
X-HITS:191
X-COLOR:E59D2B
X-SHOW-END-TIME:0
END:VEVENT
BEGIN:VEVENT
DTSTART;TZID=Europe/Berlin:20240309T150000
DTEND;TZID=Europe/Berlin:20240309T160000
UID:A93F70DB-D9A8-4B17-A245-C1B72D0B6CB2
SUMMARY:Ausbildungsdienst der Kinderfeuerwehr
CREATED:20231228T112250Z
DTSTAMP:20231228T112250Z
URL:https://feuerwehr-moischt.de/aktuelles/terminkalender/ausbildungsdienst-der-kinderfeuerwehr-4
X-ACCESS:1
X-HITS:192
X-COLOR:E59D2B
X-SHOW-END-TIME:0
END:VEVENT
BEGIN:VEVENT
DTSTART;TZID=Europe/Berlin:20240323T150000
DTEND;TZID=Europe/Berlin:20240323T160000
UID:8CAB8A08-C5EE-437A-8771-52571015F0A7
SUMMARY:Ausbildungsdienst der Kinderfeuerwehr
CREATED:20231228T112309Z
DTSTAMP:20231228T112309Z
URL:https://feuerwehr-moischt.de/aktuelles/terminkalender/ausbildungsdienst-der-kinderfeuerwehr-5
X-ACCESS:1
X-HITS:152
X-COLOR:E59D2B
X-SHOW-END-TIME:0
END:VEVENT
BEGIN:VEVENT
DTSTART;TZID=Europe/Berlin:20240420T150000
DTEND;TZID=Europe/Berlin:20240420T160000
UID:8634FB8E-4892-481D-823D-0E6CC51DCD61
SUMMARY:Ausbildungsdienst der Kinderfeuerwehr
CREATED:20231228T112328Z
DTSTAMP:20231228T112328Z
URL:https://feuerwehr-moischt.de/aktuelles/terminkalender/ausbildungsdienst-der-kinderfeuerwehr-6
X-ACCESS:1
X-HITS:491
X-COLOR:E59D2B
X-SHOW-END-TIME:0
END:VEVENT
BEGIN:VEVENT
DTSTART;TZID=Europe/Berlin:20240504T150000
DTEND;TZID=Europe/Berlin:20240504T160000
UID:4C2E8353-8A51-4B35-9C08-C9060D6CE252
SUMMARY:Ausbildungsdienst der Kinderfeuerwehr
CREATED:20231228T112347Z
DTSTAMP:20231228T112347Z
URL:https://feuerwehr-moischt.de/aktuelles/terminkalender/ausbildungsdienst-der-kinderfeuerwehr-7
X-ACCESS:1
X-HITS:362
X-COLOR:E59D2B
X-SHOW-END-TIME:0
END:VEVENT
BEGIN:VEVENT
DTSTART;TZID=Europe/Berlin:20240518T150000
DTEND;TZID=Europe/Berlin:20240518T160000
UID:7AAC4AFA-96E3-43EF-81A1-3579058F9125
SUMMARY:Ausbildungsdienst der Kinderfeuerwehr
CREATED:20231228T112404Z
DTSTAMP:20231228T112404Z
URL:https://feuerwehr-moischt.de/aktuelles/terminkalender/ausbildungsdienst-der-kinderfeuerwehr-8
X-ACCESS:1
X-HITS:215
X-COLOR:E59D2B
X-SHOW-END-TIME:0
END:VEVENT
BEGIN:VEVENT
DTSTART;TZID=Europe/Berlin:20240601T150000
DTEND;TZID=Europe/Berlin:20240601T160000
UID:6D2D30A7-2750-470D-90A2-CEB5B084CB5D
SUMMARY:Ausbildungsdienst der Kinderfeuerwehr
CREATED:20231228T112423Z
DTSTAMP:20231228T112423Z
URL:https://feuerwehr-moischt.de/aktuelles/terminkalender/ausbildungsdienst-der-kinderfeuerwehr-9
X-ACCESS:1
X-HITS:243
X-COLOR:E59D2B
X-SHOW-END-TIME:0
END:VEVENT
BEGIN:VEVENT
DTSTART;TZID=Europe/Berlin:20240615T150000
DTEND;TZID=Europe/Berlin:20240615T160000
UID:50C2E9AF-2DEC-443D-B4CF-D7250CC92D50
SUMMARY:Ausbildungsdienst der Kinderfeuerwehr
CREATED:20231228T112445Z
DTSTAMP:20231228T112445Z
URL:https://feuerwehr-moischt.de/aktuelles/terminkalender/ausbildungsdienst-der-kinderfeuerwehr-10
X-ACCESS:1
X-HITS:194
X-COLOR:E59D2B
X-SHOW-END-TIME:0
END:VEVENT
BEGIN:VEVENT
DTSTART;TZID=Europe/Berlin:20240629T150000
DTEND;TZID=Europe/Berlin:20240629T160000
UID:7C7C604B-8909-4E8A-85CF-A4EAF241547E
SUMMARY:Ausbildungsdienst der Kinderfeuerwehr
CREATED:20231228T112506Z
DTSTAMP:20231228T112506Z
URL:https://feuerwehr-moischt.de/aktuelles/terminkalender/ausbildungsdienst-der-kinderfeuerwehr-11
X-ACCESS:1
X-HITS:247
X-COLOR:E59D2B
X-SHOW-END-TIME:0
END:VEVENT
BEGIN:VEVENT
DTSTART;TZID=Europe/Berlin:20240713T150000
DTEND;TZID=Europe/Berlin:20240713T160000
UID:75B5B271-A526-4524-9F4E-0C274BE557C0
SUMMARY:Ausbildungsdienst der Kinderfeuerwehr
CREATED:20231228T112523Z
DTSTAMP:20231228T112523Z
URL:https://feuerwehr-moischt.de/aktuelles/terminkalender/ausbildungsdienst-der-kinderfeuerwehr-12
X-ACCESS:1
X-HITS:218
X-COLOR:E59D2B
X-SHOW-END-TIME:0
END:VEVENT
END:VCALENDAR